BEGIN:VCALENDAR
VERSION:2.0
PRODID:-//Escape To The Southeast - ECPv6.15.20//NONSGML v1.0//EN
CALSCALE:GREGORIAN
METHOD:PUBLISH
X-WR-CALNAME:Escape To The Southeast
X-ORIGINAL-URL:https://www.escapetothesoutheast.com
X-WR-CALDESC:Events for Escape To The Southeast
REFRESH-INTERVAL;VALUE=DURATION:PT1H
X-Robots-Tag:noindex
X-PUBLISHED-TTL:PT1H
BEGIN:VTIMEZONE
TZID:UTC
BEGIN:STANDARD
TZOFFSETFROM:+0000
TZOFFSETTO:+0000
TZNAME:UTC
DTSTART:20230101T000000
END:STANDARD
END:VTIMEZONE
BEGIN:VEVENT
DTSTART;VALUE=DATE:20241228
DTEND;VALUE=DATE:20241229
DTSTAMP:20260423T162538
CREATED:20241112T182521Z
LAST-MODIFIED:20241112T182521Z
UID:1993-1735344000-1735430399@www.escapetothesoutheast.com
SUMMARY:Dread Hollow
DESCRIPTION:Chattanooga’s award-winning haunted attraction returns every fall with all new terrifying sets\, storylines\, and scares. Frightening fear-seekers for 21 years\, the masterminds behind Dread Hollow unleash new evolutions of terror each season with ominously interactive actors and twisted storylines playing out over 25\,000+ square feet of all-new\, meticulously detailed haunted house sets\, unsettling illusions\, and horror­-themed escape rooms. \nTwo dates for fall: Saturday\, December 28 and Saturday\, January 4 \n 
URL:https://www.escapetothesoutheast.com/event/dread-hollow/
LOCATION:Ruby Falls\, 1720 S. Scenic Hwy\, Chattanooga\, TN\, 37409\, United States
CATEGORIES:December,January,October,SIGNATURE EVENTS OF THE SOUTHEAST
ATTACH;FMTTYPE=image/jpeg:https://www.escapetothesoutheast.com/wp-content/uploads/sites/9/2024/11/Dread-Hollow_01.jpg
END:VEVENT
BEGIN:VEVENT
DTSTART;TZID=UTC:20241206T080000
DTEND;TZID=UTC:20241223T170000
DTSTAMP:20260423T162538
CREATED:20241112T200115Z
LAST-MODIFIED:20241112T200400Z
UID:2013-1733472000-1734973200@www.escapetothesoutheast.com
SUMMARY:Peace River Botanical & Sculpture Gardens' Gardens Aglow
DESCRIPTION:Now in its sixth year of celebration\, Gardens Aglow\, put on by the Peace River Botanical & Sculpture Gardens\, is a magical experience for the whole family to enjoy. Enjoy the enchanting annual event where acres of beautifully adorned gardens sparkle with thousands of lights\, creating the ideal holiday excursion for family and friends through: \n• A mesmerizing stroll around the Gardens illuminated by thousands of lights and accompanied by enchanting music.\n• Festive Christmas carol performances and the opportunity to capture magical moments with Santa every night.\n• S’mores roasting over a cozy fire pit and the option to savor hot chocolate.\n• A chance to win a Christmas tree through a festive raffle.\n• A holiday gallery and a variety of enjoyable activities for the entire family. \nNestled alongside the serene Peace River\, Peace River Botanical & Sculpture Gardens’ 30-acre sanctuary combines the richness of five unique ecosystems: marshlands\, wetlands\, mangroves\, uplands\, and tidal basins. Its gardens are alive with year-round blooms\, showcased alongside a sprawling network of 15\,000+ square feet of boardwalks and docks—perfect for immersing yourself in its collection of grand sculptures. \nDive deeper into the origins\, aspirations\, and ongoing evolution of this flourishing botanical haven. \nGates close at 8:15 pm for admission\, and Gardens Aglow illuminates the sky until 9 pm. \nGardens Aglow is an exclusive ticketed event and does not grant access to the Garden during regular hours of operation. For inquiries\, please contact us at 941.621.8299.
URL:https://www.escapetothesoutheast.com/event/peace-river-botanical-sculpture-gardens-gardens-aglow/
LOCATION:Peace River Botanical & Sculpture Gardens\, 5827 Riverside Drive\, Punta Gorda\, 33982\, United States
CATEGORIES:December,SIGNATURE EVENTS OF THE SOUTHEAST
ATTACH;FMTTYPE=image/jpeg:https://www.escapetothesoutheast.com/wp-content/uploads/sites/9/2024/11/Picture1-1.jpg
END:VEVENT
BEGIN:VEVENT
DTSTART;TZID=UTC:20241112T080000
DTEND;TZID=UTC:20241112T170000
DTSTAMP:20260423T162538
CREATED:20241112T183045Z
LAST-MODIFIED:20241112T183045Z
UID:1995-1731398400-1731430800@www.escapetothesoutheast.com
SUMMARY:Extra Table - March of Mayors
DESCRIPTION:5 days\, 5 regions\, and FIFTY MAYORS TEAMING UP TO FEED OUR HUNGRY NEIGHBORS \nMarch of the Mayors is a canned food drive\, a fundraiser and it’s ‘Mississippi’s Largest Food Box Packing Party’ complete with Moon Pies\, Mardi Gras beads\, and volunteers all rolled into one jazzy Second Line with a mission to feed hungry Mississippians!⁠
URL:https://www.escapetothesoutheast.com/event/extra-table-march-of-mayors/
CATEGORIES:SIGNATURE EVENTS OF THE SOUTHEAST
ATTACH;FMTTYPE=image/jpeg:https://www.escapetothesoutheast.com/wp-content/uploads/sites/9/2024/11/Food-box_MoM-1.jpeg
END:VEVENT
END:VCALENDAR